BEGIN:VCALENDAR
PRODID:-//eluceo/ical//2.0/EN
VERSION:2.0
CALSCALE:GREGORIAN
BEGIN:VEVENT
UID:15aa601e24e706dff6880944feebfe0a
DTSTAMP:20260421T101400Z
SUMMARY:St.Gallen – Eine Stadt in Lieblingstexten
DESCRIPTION:Ostschweizer Literaturgespräch #23
URL:https://www.literaturstadt.ch/veranstaltungen/st.gallen-eine-stadt-in-l
 ieblingstexten
DTSTART;TZID=Europe/Zurich:20260513T190000
DTEND;TZID=Europe/Zurich:20260513T210000
END:VEVENT
END:VCALENDAR
