BEGIN:VCALENDAR
PRODID:-//eluceo/ical//2.0/EN
VERSION:2.0
CALSCALE:GREGORIAN
BEGIN:VEVENT
UID:2fd8fb539f11a148e682151e2d7538f5
DTSTAMP:20260424T135940Z
SUMMARY:Händl Klaus - Ein Kessel Buntes und viele dunkel lockende Welten
DESCRIPTION:LooT#13 - Eine Kooperation von Literaturhaus&Theater SG.
URL:https://www.literaturstadt.ch/veranstaltungen/hndl-klaus---ein-kessel-b
 untes-und-viele-dunkel-lockende-welten
DTSTART;TZID=Europe/Zurich:20260507T200000
DTEND;TZID=Europe/Zurich:20260507T220000
END:VEVENT
END:VCALENDAR
