BEGIN:VCALENDAR
PRODID:-//eluceo/ical//2.0/EN
VERSION:2.0
CALSCALE:GREGORIAN
BEGIN:VEVENT
UID:c85769e8fc267e3391e062a3d3dac3e6
DTSTAMP:20260424T134357Z
SUMMARY:Belluna-Abend im Solihaus
DESCRIPTION:Belluna-Abend: Lesung mit Heike Wach und Nilgün Özdal.
URL:https://www.literaturstadt.ch/veranstaltungen/belluna-abend-im-solihaus
DTSTART;TZID=Europe/Zurich:20260508T190000
DTEND;TZID=Europe/Zurich:20260508T210000
END:VEVENT
END:VCALENDAR
